BEGIN:VCALENDAR
VERSION:2.0
PRODID:-//PharmaLeaders - ECPv6.15.20//NONSGML v1.0//EN
CALSCALE:GREGORIAN
METHOD:PUBLISH
X-WR-CALNAME:PharmaLeaders
X-ORIGINAL-URL:https://pharmaleaders.com
X-WR-CALDESC:Events for PharmaLeaders
REFRESH-INTERVAL;VALUE=DURATION:PT1H
X-Robots-Tag:noindex
X-PUBLISHED-TTL:PT1H
BEGIN:VTIMEZONE
TZID:America/New_York
BEGIN:DAYLIGHT
TZOFFSETFROM:-0500
TZOFFSETTO:-0400
TZNAME:EDT
DTSTART:20230312T070000
END:DAYLIGHT
BEGIN:STANDARD
TZOFFSETFROM:-0400
TZOFFSETTO:-0500
TZNAME:EST
DTSTART:20231105T060000
END:STANDARD
BEGIN:DAYLIGHT
TZOFFSETFROM:-0500
TZOFFSETTO:-0400
TZNAME:EDT
DTSTART:20240310T070000
END:DAYLIGHT
BEGIN:STANDARD
TZOFFSETFROM:-0400
TZOFFSETTO:-0500
TZNAME:EST
DTSTART:20241103T060000
END:STANDARD
BEGIN:DAYLIGHT
TZOFFSETFROM:-0500
TZOFFSETTO:-0400
TZNAME:EDT
DTSTART:20250309T070000
END:DAYLIGHT
BEGIN:STANDARD
TZOFFSETFROM:-0400
TZOFFSETTO:-0500
TZNAME:EST
DTSTART:20251102T060000
END:STANDARD
END:VTIMEZONE
BEGIN:VEVENT
DTSTART;TZID=America/New_York:20240521T070000
DTEND;TZID=America/New_York:20240522T190000
DTSTAMP:20260420T045600
CREATED:20231108T140853Z
LAST-MODIFIED:20240201T175850Z
UID:902140-1716274800-1716404400@pharmaleaders.com
SUMMARY:Reimagine Pharma Marketing
DESCRIPTION:The ReImagine Pharma Marketing 2024 Conference focuses on discussing and engaging in the most pressing topics for Pharma Marketers like digital and AI implementation\, brand strategy\, first-party data innovation\, the complete patient journey from the Marketing perspective\, constant digital changes and platforms\, and more! This conference is a mix of networking opportunities and a great environment that allows organic connections and meaningful conversations. \nTop Reasons to Attend \n1. Define strategies for email and PR communications that are optimal and deliver the right message to the right audience. \n2. Learn how businesses and marketers can leverage Social Media platforms to reach their target audience effectively. \n3. Explore how AI tools can be implemented in your marketing efforts to maximize resources and deliver effective messages while enhancing targeting capabilities. \n4. ReImagine the Legal Review Process to streamline the review process\, understanding the risk tolerance of your company. \n5. Maximize your relationship with your Agency\, and define roles and responsibilities while keeping the Marketing department’s value and Identity. \nLearn More
URL:https://pharmaleaders.com/event/reimagine-pharma-marketing/
ATTACH;FMTTYPE=image/png:https://pharmaleaders.com/wp-content/uploads/2023/11/Reimagine_Pharma.png
END:VEVENT
END:VCALENDAR