BEGIN:VCALENDAR
VERSION:2.0
PRODID:-//PharmaLeaders - ECPv6.15.20//NONSGML v1.0//EN
CALSCALE:GREGORIAN
METHOD:PUBLISH
X-WR-CALNAME:PharmaLeaders
X-ORIGINAL-URL:https://pharmaleaders.com
X-WR-CALDESC:Events for PharmaLeaders
REFRESH-INTERVAL;VALUE=DURATION:PT1H
X-Robots-Tag:noindex
X-PUBLISHED-TTL:PT1H
BEGIN:VTIMEZONE
TZID:America/New_York
BEGIN:DAYLIGHT
TZOFFSETFROM:-0500
TZOFFSETTO:-0400
TZNAME:EDT
DTSTART:20230312T070000
END:DAYLIGHT
BEGIN:STANDARD
TZOFFSETFROM:-0400
TZOFFSETTO:-0500
TZNAME:EST
DTSTART:20231105T060000
END:STANDARD
BEGIN:DAYLIGHT
TZOFFSETFROM:-0500
TZOFFSETTO:-0400
TZNAME:EDT
DTSTART:20240310T070000
END:DAYLIGHT
BEGIN:STANDARD
TZOFFSETFROM:-0400
TZOFFSETTO:-0500
TZNAME:EST
DTSTART:20241103T060000
END:STANDARD
BEGIN:DAYLIGHT
TZOFFSETFROM:-0500
TZOFFSETTO:-0400
TZNAME:EDT
DTSTART:20250309T070000
END:DAYLIGHT
BEGIN:STANDARD
TZOFFSETFROM:-0400
TZOFFSETTO:-0500
TZNAME:EST
DTSTART:20251102T060000
END:STANDARD
END:VTIMEZONE
BEGIN:VEVENT
DTSTART;VALUE=DATE:20240416
DTEND;VALUE=DATE:20240419
DTSTAMP:20260420T045610
CREATED:20240125T133624Z
LAST-MODIFIED:20240209T162419Z
UID:902499-1713225600-1713484799@pharmaleaders.com
SUMMARY:Xpectives Health Summit
DESCRIPTION:2024 Xpectives.Health Summit\nApril 16-18\, 2024\nWestin Copley Place\, Boston \nStep into the future of healthcare marketing at the Xpectives.Health Summit\, celebrating 24 years of the DTC National Conference. From April 16-18\, 2024\, in Boston\, this landmark event offers a mosaic of insights across 13 conference tracks\, shining a light on the latest healthcare marketing trends.  In addition to the DTC National track\, other tracks include Inclusive Health Marketing\, Women’s Health Business\, Forum on Clinical Trials\, Forum on Medical Device Marketing\, Forum on Digital Health\, Innovative Treatments in Mental Health\, and Marketing to HCPs. \nThe Xpectives.Health Summit also features exciting awards ceremonies including the DTC Ad Awards\, Top DTC Marketers of the Year\, DTC Hall of Fame\, FemForce Awards\, Clinical Trial Visionaries and Hall of Fame.  Don’t miss this opportunity to celebrate with industry leaders driving innovation and improving patient outcomes. \nThe Xpectives.Health Summit reflects a legacy of learning and connections\, making the summit a not-to-be-missed event for health marketing professionals. It’s more than a conference; it’s a community where the brightest minds unite to forge the path ahead in healthcare communication. \nRegister today to learn and network with the health marketing industry’s best!\nhttps://xpectives.health/register-for-xpectives-health-summit/
URL:https://pharmaleaders.com/event/xpectives-health-summit/
LOCATION:Westin Copley Place\, Boston\, 10 Huntington Ave\,\, Boston\, MA\, 02116
ATTACH;FMTTYPE=image/png:https://pharmaleaders.com/wp-content/uploads/2024/01/Xpectives_Health.png
END:VEVENT
BEGIN:VEVENT
DTSTART;VALUE=DATE:20240416
DTEND;VALUE=DATE:20240419
DTSTAMP:20260420T045610
CREATED:20240209T154720Z
LAST-MODIFIED:20240209T154850Z
UID:902560-1713225600-1713484799@pharmaleaders.com
SUMMARY:Reuters Events: Pharma EU 2024
DESCRIPTION:Reuters Events: Pharma 2024\nApril 16-18\, 2024\nCCIB\, Barcelona \nThe world’s leading cross-functional event for pharma changemakers \nPharma’s role within the healthcare system is weakening. Increased demand\, economic strains\, suffocating regulatory change and a widening access gap is impacting future pipelines and commercial innovations reaching patients. \nSiloed functions too often compete with each other instead of complementing each other\, failing to rally behind a common purpose. Internal forces need to come together to secure a future where better medicines support a value proposition that resonates with our patients\, payers\, policy makers\, HTAs and customers. \nNo one function can do this alone\, we must act as one. \nThat’s why over 1\,200 of the world’s leading pharma changemakers from commercial\, marketing\, medical affairs\, patient engagement\, market access\, RWE\, and digital health are gathering under one roof in Barcelona at Reuters Events: Pharma 2024. We will draw up a new blueprint to bridge and align internal workforces while rewriting pharma’s value proposition\, cementing its role as an integral pillar of the healthcare system. \nAt this event\, together\, we will become the trusted source for scientific information\, transform digital potential into meaningful patient outcomes\, adapt to the incoming JCA legislation and harness growing data sources that will deliver value to customers and growing patient population needs. \nLEARN MORE
URL:https://pharmaleaders.com/event/reuters-events-pharma-eu-2024/
ATTACH;FMTTYPE=image/jpeg:https://pharmaleaders.com/wp-content/uploads/2024/02/Pharma-EU-2024-Event-IMAGE.jpg
END:VEVENT
END:VCALENDAR