BEGIN:VCALENDAR
VERSION:2.0
PRODID:-//PharmaLeaders - ECPv6.15.20//NONSGML v1.0//EN
CALSCALE:GREGORIAN
METHOD:PUBLISH
X-ORIGINAL-URL:https://pharmaleaders.com
X-WR-CALDESC:Events for PharmaLeaders
REFRESH-INTERVAL;VALUE=DURATION:PT1H
X-Robots-Tag:noindex
X-PUBLISHED-TTL:PT1H
BEGIN:VTIMEZONE
TZID:Europe/Paris
BEGIN:DAYLIGHT
TZOFFSETFROM:+0100
TZOFFSETTO:+0200
TZNAME:CEST
DTSTART:20230326T010000
END:DAYLIGHT
BEGIN:STANDARD
TZOFFSETFROM:+0200
TZOFFSETTO:+0100
TZNAME:CET
DTSTART:20231029T010000
END:STANDARD
BEGIN:DAYLIGHT
TZOFFSETFROM:+0100
TZOFFSETTO:+0200
TZNAME:CEST
DTSTART:20240331T010000
END:DAYLIGHT
BEGIN:STANDARD
TZOFFSETFROM:+0200
TZOFFSETTO:+0100
TZNAME:CET
DTSTART:20241027T010000
END:STANDARD
BEGIN:DAYLIGHT
TZOFFSETFROM:+0100
TZOFFSETTO:+0200
TZNAME:CEST
DTSTART:20250330T010000
END:DAYLIGHT
BEGIN:STANDARD
TZOFFSETFROM:+0200
TZOFFSETTO:+0100
TZNAME:CET
DTSTART:20251026T010000
END:STANDARD
END:VTIMEZONE
BEGIN:VEVENT
DTSTART;TZID=Europe/Paris:20240409T080000
DTEND;TZID=Europe/Paris:20240411T170000
DTSTAMP:20260420T051126
CREATED:20231219T180115Z
LAST-MODIFIED:20231219T180115Z
UID:902391-1712649600-1712854800@pharmaleaders.com
SUMMARY:Pharma Contract Manufacturing - Berlin
DESCRIPTION:Europe’s Only Conference Focussed On Pinpointing Effective Solutions For Your Manufacturing Operations And Establishing Partnerships That Meet Your Organisation’s Needs\, Now And For The Future \nSelecting the right CMO partner is the critical decision in getting high-quality products to patients. If this relationship fails\, we fail. Our companies and patients can’t afford for us to get this decision wrong. That’s why Pharma IQ is bringing together partners from across the industry to collaborate on how we make these relationships work both now and in the future. Because for the patient to succeed\, we need to succeed.
URL:https://pharmaleaders.com/event/pharma-contract-manufacturing-berlin/
ATTACH;FMTTYPE=image/png:https://pharmaleaders.com/wp-content/uploads/2023/12/PharmaContract_manufacturing.png
END:VEVENT
END:VCALENDAR