BEGIN:VCALENDAR
VERSION:2.0
PRODID:-//PharmaLeaders - ECPv6.15.20//NONSGML v1.0//EN
CALSCALE:GREGORIAN
METHOD:PUBLISH
X-ORIGINAL-URL:https://pharmaleaders.com
X-WR-CALDESC:Events for PharmaLeaders
REFRESH-INTERVAL;VALUE=DURATION:PT1H
X-Robots-Tag:noindex
X-PUBLISHED-TTL:PT1H
BEGIN:VTIMEZONE
TZID:America/New_York
BEGIN:DAYLIGHT
TZOFFSETFROM:-0500
TZOFFSETTO:-0400
TZNAME:EDT
DTSTART:20230312T070000
END:DAYLIGHT
BEGIN:STANDARD
TZOFFSETFROM:-0400
TZOFFSETTO:-0500
TZNAME:EST
DTSTART:20231105T060000
END:STANDARD
BEGIN:DAYLIGHT
TZOFFSETFROM:-0500
TZOFFSETTO:-0400
TZNAME:EDT
DTSTART:20240310T070000
END:DAYLIGHT
BEGIN:STANDARD
TZOFFSETFROM:-0400
TZOFFSETTO:-0500
TZNAME:EST
DTSTART:20241103T060000
END:STANDARD
BEGIN:DAYLIGHT
TZOFFSETFROM:-0500
TZOFFSETTO:-0400
TZNAME:EDT
DTSTART:20250309T070000
END:DAYLIGHT
BEGIN:STANDARD
TZOFFSETFROM:-0400
TZOFFSETTO:-0500
TZNAME:EST
DTSTART:20251102T060000
END:STANDARD
END:VTIMEZONE
BEGIN:VEVENT
DTSTART;VALUE=DATE:20240305
DTEND;VALUE=DATE:20240306
DTSTAMP:20260420T103016
CREATED:20240126T003600Z
LAST-MODIFIED:20240201T180129Z
UID:902503-1709596800-1709683199@pharmaleaders.com
SUMMARY:What´s next in Pharma Marketing?
DESCRIPTION:Digital marketing in the pharmaceutical industry is a huge component of how a life science brand promotes its products and company. With the digital world moving at such a fast pace\, it can be difficult to keep up with what consumers are using and viewing right now. \nFrom Connected TV on streaming platforms like Hulu and Roku\, all the way to TikTok and X (formerly Twitter)\, there is always a new outlet to promote pharmaceutical brands in a way that captures a whole new audience. \n“What’s Next in Pharma Marketing?” will cover which new marketing channels are proving effective in the life science industries\, and how to leverage this to strengthen omnichannel approach and optimize targeting efforts. \nLearn more about this unique and informative virtual event by visiting our website!
URL:https://pharmaleaders.com/event/whats-next-in-pharma-marketing/
ATTACH;FMTTYPE=image/png:https://pharmaleaders.com/wp-content/uploads/2024/01/WhatsNext_harma.png
END:VEVENT
END:VCALENDAR